BEGIN:VCALENDAR
VERSION:2.0
PRODID:-//ChamberMaster//Event Calendar 2.0//EN
METHOD:PUBLISH
X-PUBLISHED-TTL:P1H
REFRESH-INTERVAL:P1H
CALSCALE:GREGORIAN
BEGIN:VTIMEZONE
TZID:America/New_York
BEGIN:DAYLIGHT
RRULE:FREQ=YEARLY;BYMONTH=3;BYDAY=2SU
DTSTART:20070101T000000
TZOFFSETFROM:-0500
TZOFFSETTO:-0400
TZNAME:Eastern Daylight Time
END:DAYLIGHT
BEGIN:STANDARD
RRULE:FREQ=YEARLY;BYMONTH=11;BYDAY=1SU
DTSTART:20070101T000000
TZOFFSETFROM:-0400
TZOFFSETTO:-0500
TZNAME:Eastern Standard Time
END:STANDARD
END:VTIMEZONE
BEGIN:VEVENT
DTSTART;TZID=America/New_York:20260504T090000
DTEND;TZID=America/New_York:20260504T120000
X-MICROSOFT-CDO-ALLDAYEVENT:FALSE
SUMMARY:Module 4: Office Management - Who Are You Protecting? - AGENT REQUIRED COURSE
DESCRIPTION:This continuing education class has been scheduled to accommodate those who have been issued disciplinary action from the Delaware Division of Professional Regulation requiring completion of an in-person continuing education course\, specifically Module 4. Due to the number of agents and brokers with this requirement\, we will be offering an in-person class. - This is not available for cycle 7 class registration.Class Details:\nDate: May 4\, 2026\nTime: 9:00 AM   12:00 PM\nInstructor: Barbara Miller\nCourse: Module 4: Office Management - Who Are You Protecting?\nCost: $50 per person (to help cover the instructor fee)Max Attendees: 28you need to attend\, please reply with the following information:Name Brokerage Delaware License Number If you have not received one yet\, please request a credit card authorization form for payment processing prior to registration.Location:\nKent County Association of REALTORS 519 Red Haven Ln\, Suite 200 (2nd Floor   signage will be provided)\nDover\, DE 19901Please note: A $50 no-show fee will be applied for cancellations made with less than 24 hours' notice.We are currently unsure if or when this course will be offered again\, so attendance is strongly encouraged.If you have any questions\, please feel free to reach out to Heather at memberservices@kcar.org
X-ALT-DESC;FMTTYPE=text/html:<!DOCTYPE html><html><head><title></title></head><body aria-disabled="false"><p>This continuing education class has been scheduled to accommodate those who have been issued disciplinary action from the Delaware Division of Professional Regulation requiring completion of an in-person continuing education course\, specifically Module 4. Due to the number of agents and brokers with this requirement\, we will be offering an in-person class. - This is not available for cycle 7 class registration.</p><p><strong fr-original-style="" style="font-weight: 700\;">Class Details:</strong><br><strong fr-original-style="" style="font-weight: 700\;">Date:</strong> May 4\, 2026<br><strong fr-original-style="" style="font-weight: 700\;">Time:</strong> 9:00 AM &ndash\; 12:00 PM<br><strong fr-original-style="" style="font-weight: 700\;">Instructor:&nbsp\;</strong>Barbara Miller<br><strong fr-original-style="" style="font-weight: 700\;">Course:</strong> Module 4: Office Management - Who Are You Protecting?<br><strong fr-original-style="" style="font-weight: 700\;">Cost:</strong>&nbsp\;$50 per person (to help cover the instructor fee)</p><p><strong fr-original-style="" style="font-weight: 700\;">Max Attendees</strong>: 28</p><p>you need to attend\, please reply with the following information:</p><ul fr-original-style="" style="list-style-position: inside\;" type="disc"><li style="mso-list:l0 level1 lfo1\;tab-stops:list .5in\;"><strong fr-original-style="" style="font-weight: 700\;">Name&nbsp\;</strong></li><li style="mso-list:l0 level1 lfo1\;tab-stops:list .5in\;"><strong fr-original-style="" style="font-weight: 700\;">Brokerage&nbsp\;</strong></li><li style="mso-list:l0 level1 lfo1\;tab-stops:list .5in\;"><strong fr-original-style="" style="font-weight: 700\;">Delaware License Number&nbsp\;</strong></li></ul><p><strong fr-original-style="" style="font-weight: 700\;">If you have not received one yet\, please request a credit card authorization form for payment processing prior to registration.</strong></p><p><strong fr-original-style="" style="font-weight: 700\;">Location:</strong><br>Kent County Association of REALTORS&reg\;</p><p>519 Red Haven Ln\, Suite 200 (2nd Floor &ndash\; signage will be provided)<br>Dover\, DE 19901</p><p><strong fr-original-style="" style="font-weight: 700\;">Please note:</strong> A $50 no-show fee will be applied for cancellations made with less than 24 hours&rsquo\; notice.</p><p>We are currently unsure if or when this course will be offered again\, so attendance is strongly encouraged.</p><p>If you have any questions\, please feel free to reach out to Heather at memberservices@kcar.org</p></body></html>
LOCATION:519 S Red Haven Lane 2nd Floor Dover DE 19901
UID:e.2784.1445542
SEQUENCE:3
DTSTAMP:20260423T170555Z
URL:https://members.kcar.org/eventcalendar/Details/module-4-office-management-who-are-you-protecting-agent-required-course-1712159?sourceTypeId=Hub
END:VEVENT
END:VCALENDAR
